BEGIN:VCALENDAR
PRODID:-//Det Danske Spejderkorps//NONSGML Gruppeweb//EN
VERSION:2.0
CALSCALE:GREGORIAN
X-PUBLISHED-TTL:PT1H
X-WR-CALNAME:Bro Division
METHOD:PUBLISH
BEGIN:VEVENT
UID:gruppeweb.dk:4100:event:47
DTSTAMP:20260420T015224Z
LAST-MODIFIED:20260213T131258Z
SUMMARY:Fællesdivi 2025
DESCRIPTION:\n
URL:https://brodivision.dk/begivenhed/faellesdivi-2025
DTSTART:20250523T160000Z
DTEND:20250525T100000Z
LOCATION:Egebjerghytten\, Tørvelong 22\, 5771 Stenstrup
END:VEVENT
BEGIN:VEVENT
UID:gruppeweb.dk:4100:event:49
DTSTAMP:20260420T015224Z
LAST-MODIFIED:20260213T131255Z
SUMMARY:Fællesledermøde & Forkorprådsmøde
DESCRIPTION:\nInvitation til fællesledermøde & Forkorpsrådsmøde\n\nDato
  : Torsdag d. 6. November 2025\n\nTidspunkt : 19:00 – ca. 21:30\n\nSted 
 : Granhytten\, Tåsinge\n\n\nKære Ledere\, Klanspejdere\, Bestyrelsesmedl
 emmer\, korpsrådsmedlemmer og  \nandre interesserede\n\nTorsdag d. 6 Nove
 mber invitere Bro Division til fællesledermøde kombineret  \nmed et fork
 orpsrådsmøde i Granhytten\nMødet vil blive en kombination af evaluering
  af fælles divisionsweekend og  \nturnering fra i foråret samt grentid.
  \n\nSlutningsvis vil vi sammen kigge på det kommende korpsrådsmøde so
 m i år  \ner valg år for spejderchefer og korpsledelsen.\nI kan finde m
 aterialet til korpsrådsmødet og beskrivelser af kandidaterne  \npå www.
 dds.dk/kandidaterne-til-korpsledelsen [1]\n\n\n*Programmet for aftenen:*\n
 \n*19:00\n     * – Velkomst  \n\n*19:05\n      *– Gennemgang af kand
 idater til korpsledelsen   \n\n*19:45* – Pause\n\n*20:00 * – Evalu
 ering af fællesdivi og skal det laves igen til næste år?\n\n*20:20\n   
   * – Grentid (inkl. kaffe og kage).\n\n*21:10\n     * – Afslutning og
  evaluering af møde\n\n*21:30*\n      – Tak for i aften.\n\n\n\n[1] ht
 tp://www.dds.dk/kandidaterne-til-korpsledelsen\n
URL:https://brodivision.dk/begivenhed/faellesledermoede-forkorpraadsmoede
DTSTART:20251106T180000Z
DTEND:20251106T203000Z
LOCATION:Granhytten\, Granstien 8\, 5700 Svendborg
END:VEVENT
BEGIN:VEVENT
UID:gruppeweb.dk:4100:event:50
DTSTAMP:20260420T015224Z
LAST-MODIFIED:20251119T200425Z
SUMMARY:Bro Kursus
DESCRIPTION:.... Invitation til Brokursus – 11.–12. april 2026\n\nKære
  spejderkammerater\n\nVi inviterer dig til Brokursus – en weekend fyldt 
 med natur\, fællesskab og  \nspændende oplevelser!\n\nLørdag starter vi
  med flaghejsning og velkomst\, inden vi dykker ned i  \nNaturen i maden 
 – en oplevelse\, hvor vi kombinerer friluftsliv med kreativ  \nmadlavnin
 g. Efter frokost står Science Piraterne klar med sjove  \neksperimenter\,
  der gør naturvidenskab levende og underholdende.\n\nOm eftermiddagen få
 r vi besøg af Claus fra Spejdersport\, som giver tips til  \ndet bedste g
 rej og telte til spejderlivet – og præsenterer særlige tilbud  \ntil S
 pejdernes Lejr. Det er din chance for at få inspiration og gode råd  \nt
 il sommerens store spejderoplevelse!\n\nAftenen byder på lækker buffet f
 ra Bregninge Mølle\, hygge\, underholdning  \nog fest – en perfekt afsl
 utning på en dag med masser af oplevelser.\n\nSøndag starter vi med morg
 enmad og et inspirerende oplæg fra Mette  \nMortensen\, kendt fra Alene i
  Vildmarken. Hun deler sine erfaringer med  \noverlevelse og mental styrke
  – en fortælling\, der giver stof til  \neftertanke.\n\nVi slutter af m
 ed oprydning og en fælles tak for en fantastisk weekend.\n\n\n-----------
 -------------------------------------------------------------------\n\n...
 . Praktiske oplysninger\n\n * Dato: 11.–12. april\n   \n * Pris: 600 kr.
  pr. person (inkluderer alle aktiviteter\, overnatning\,\n   frokost\, kaf
 fe/kage\, morgenmad og buffet lørdag aften)\n   Overføres gruppevis til 
 Bro Divisions konto REG: 2680 konto: 0121601133\n   \n * Tilmelding: via B
 ro Divisions hjemmeside\n   \n * Medbring: Sovepose/lagen\, praktisk tøj\
 , regntøj\, drikkedunk og godt\n   humør og hvad du ellers skal bruge ti
 l en hyggelig weekend.\n   \n\nLørdag aften skal vi underholdes og hygge 
 sammen - Der vil være mulighed  \nfor at købe øl\, vin og vand til favo
 rable priser :-)\n\n*\n*\n\nSpejderhilsen\n\n\nMia\, Mette og Simon\n\n
URL:https://brodivision.dk/begivenhed/bro-kursus
DTSTART:20260411T070000Z
DTEND:20260412T100000Z
LOCATION:Thurøbund\, Grastenvej 204C\, 5700 Svendborg
END:VEVENT
BEGIN:VEVENT
UID:gruppeweb.dk:4100:event:51
DTSTAMP:20260420T015224Z
LAST-MODIFIED:20260413T172407Z
SUMMARY:Divisionsrådsmøde 2026
DESCRIPTION:Kære divisionsrådsmedlemmer og andre interesserede\n\nBro Div
 ision holder dette års divisionsrådsmøde onsdag den 29. april i  \nEgeb
 jerghytten\, vi glæder os til at være sammen med jer til nogle hyggelige
   \ntimer. \n\nVi prøver noget nyt …. For at kunne forberede os bedst 
 muligt på jeres  \nspørgsmål til regnskabet\, beder vi jer sende spørg
 smål til os på mail.\n\nDerudover er der vigtige frister\, som skal over
 holdes:\n\n * Indkomne forslag: senest 14/4-26\n   \n * Spørgsmål til re
 gnskabet: senest 22/4-26\n   \n * Tilmeldelsesfrist til mødet: senest 22/
 4-26\n   \n * Opstilling til divisionsledelsen: kan ske helt frem til 29/4
 \, men giv os\n   gerne besked tidligere\, hvis muligt .\n   \n\n-------- 
 Det sendes til brodivision@gmail.com [1]  --------------------------\n\nV
 i holder desuden en mini-workshop om budget 2027\, hvor alle kan byde ind 
 med  \nidéer og ønsker til næste års prioriteringer.\n\nI finder dagso
 rdenen\, regnskabet\, divisionens beretning i mailen eller på  \nBros hje
 mmeside: https://brodivision.dk/bro-division [2] \n\nDer vil blive server
 et sandwich og sodavand fra kl. 18\, så der er god tid  \ntil løs snak m
 ed andre grupper og divisionen inden rådsmødet starter kl.  \n19:00. Vi 
 forventer at være færdigt senest kl. 21:00 men gerne før 😋.\n\nAf he
 nsyn til forplejning og praksis i forhold til siddepladser bedes i  \ntilm
 elde jer arrangementet \, samt vælge om I kommer til spisning eller kun  
 \ntil rådsmødet inden tilmeldingsfristen. \n\n*\n*\n\nProgram\n\n * Kl.
  18  Fællesspisning\n   \n * Kl. 19 Rådsmødet starter\n   \n * Kl. 19:
 30Workshop\n   \n * kl 19:45 Rådsmødet fortsætter\n   \n * Kl. 20:15Pau
 se\n   \n * Kl 20:30Rådsmødet fortsætter\n   \n * Afslutning\n   \n\nVi
  ses i Egebjerghytten til et hyggeligt rådsmøde\n\n\nSpejderhilsen Divis
 ionsledelsen\n\n\n\n[1] mailto:brodivision@gmail.com\n[2] https://brodivis
 ion.dk/bro-division\n
URL:https://brodivision.dk/begivenhed/divisionsraadsmoede-2026
DTSTART:20260429T160000Z
DTEND:20260429T200000Z
LOCATION:Egebjerghytten\, Tørvelong 22\, 5771 Stenstrup
END:VEVENT
END:VCALENDAR
